BEGIN:VCALENDAR
VERSION:2.0
PRODID:-//wp-events-plugin.com//7.2.3.1//EN
TZID:America/Indiana/Indianapolis
X-WR-TIMEZONE:America/Indiana/Indianapolis
BEGIN:VEVENT
UID:17@uucchc.org
DTSTART;TZID=America/Indiana/Indianapolis:20260302T190000
DTEND;TZID=America/Indiana/Indianapolis:20260302T203000
DTSTAMP:20260219T210227Z
URL:https://uucchc.org/events/laughter-yoga-3/
SUMMARY:Laughter Yoga
DESCRIPTION:Laughter Yoga: Breathe Deep. Laugh Loud. Live Light.\n&nbsp\;\n
 \nRegister HERE!\n\nLed by local laughter legend Kris Ratekin\, “The Gig
 gle Gladiator”\nHosted by the Unitarian Universalist Community Church of
  Hendricks County (UUCCHC.org)\n\nLaughter Yoga is not your typical yoga c
 lass. There are no mats\, no poses\, and no need for flexibility. It’s a
  playful blend of intentional laughter\, deep breathing\, and gentle movem
 ent that melts away tension\, boosts mood\, and helps you reconnect with w
 hat matters most: joy.\n\nThis simple\, evidence-based practice reduces st
 ress\, lowers blood pressure\, and creates genuine connection\, even among
  strangers. It’s for every body and every age\, no experience required.\
 n\nLed by Hendricks County resident and 20-year laughter yoga leader Kris 
 Ratekin\, this session invites you to rediscover how good it feels to brea
 the\, smile\, and belong.\n\nWhat to Bring: \n\n 	Yoga Mat or Blanket/Bea
 ch Towel \n 	Hand towel (you *will* sweat!)\n 	Water Bottle\n 	Willingnes
 s to Get Silly!\n\nAbout Our Host\nThe Unitarian Universalist Community Ch
 urch of Hendricks County (UUCCHC) has long been a gathering place for open
  hearts and curious minds. Rooted in respect for all people and traditions
 \, UUCCHC fosters spiritual growth\, connection\, and service to the wider
  community.\n\nHosting Laughter Yoga is a natural extension of that missio
 n: an innovative\, inclusive\, and joy-filled way to nurture body\, mind\,
  and spirit. Whether you’re UU\, “UU-curious\,” or simply seeking a 
 space where you can breathe freely and be yourself\, you are warmly welcom
 e here.\nEvent Details\n📅 Monday\, December 1\n🕐 7pm-8pm\n📍 Unita
 rian Universalist Community Church of Hendricks County\n 95 N Jefferson St
 \, Danville\, IN  (Enter through Clinton St. doors)\n\n✨ All bodies\, a
 ll abilities\, all laughter welcome.\n 💬 “You don’t have to feel ha
 ppy to laugh\, you can laugh your way to happy!”\n\n&nbsp\;\n\n&nbsp\;\n
 \nRegister: HERE\n\n&nbsp\;
ATTACH;FMTTYPE=image/jpeg:https://uucchc.org/wp-content/uploads/2026/01/La
 ughter-Yoga-No-QR-4-1.jpg
END:VEVENT
BEGIN:VTIMEZONE
TZID:America/Indiana/Indianapolis
X-LIC-LOCATION:America/Indiana/Indianapolis
BEGIN:STANDARD
DTSTART:20251102T010000
TZOFFSETFROM:-0400
TZOFFSETTO:-0500
TZNAME:EST
END:STANDARD
END:VTIMEZONE
END:VCALENDAR